BEGIN:VCALENDAR
VERSION:2.0
PRODID:spatie/icalendar-generator
DESCRIPTION:Events from Comanche County Republican Party
X-WR-CALDESC:Events from Comanche County Republican Party
REFRESH-INTERVAL;VALUE=DURATION:PT1440M
X-PUBLISHED-TTL:PT1440M
BEGIN:VTIMEZONE
TZID:Etc/GMT+0
BEGIN:STANDARD
DTSTART:20250822T113000Z
TZOFFSETFROM:+0000
TZOFFSETTO:+0000
END:STANDARD
END:VTIMEZONE
BEGIN:VTIMEZONE
TZID:UTC
BEGIN:STANDARD
DTSTART:20250727T165113Z
TZOFFSETFROM:+0000
TZOFFSETTO:+0000
END:STANDARD
END:VTIMEZONE
BEGIN:VEVENT
UID:100-71
DTSTAMP:20260423T165113Z
SUMMARY:GOP Monthly Luncheon - May
LOCATION:Lawton County Club 4601 W Gore Boulevard  Lawton OK 73505
ORGANIZER;CN=County Chairman:MAILTO:sharlahildner@hotmail.com
DTSTART;TZID=Etc/GMT+0:20260519T113000
DTEND;TZID=Etc/GMT+0:20260519T130000
X-ALT-DESC;FMTTYPE=TEXT/HTML:Candidates: Chip Keating for Governor Justin H
 umphrey for LT Gov Jeff Starling for Attorney General
CATEGORIES:Comanche County GOP
URL;VALUE=URI:https://comanchegop.org/mc-events/gop-monthly-luncheon-may/
METHOD:PUBLISH
END:VEVENT
END:VCALENDAR