BEGIN:VCALENDAR
VERSION:2.0
PRODID:spatie/icalendar-generator
DESCRIPTION:Events from Comanche County Republican Party
X-WR-CALDESC:Events from Comanche County Republican Party
REFRESH-INTERVAL;VALUE=DURATION:PT1440M
X-PUBLISHED-TTL:PT1440M
BEGIN:VTIMEZONE
TZID:Etc/GMT+0
BEGIN:STANDARD
DTSTART:20250725T113000Z
TZOFFSETFROM:+0000
TZOFFSETTO:+0000
END:STANDARD
END:VTIMEZONE
BEGIN:VTIMEZONE
TZID:UTC
BEGIN:STANDARD
DTSTART:20250727T154458Z
TZOFFSETFROM:+0000
TZOFFSETTO:+0000
END:STANDARD
END:VTIMEZONE
BEGIN:VEVENT
UID:94-68
DTSTAMP:20260423T154458Z
SUMMARY:GOP Monthly Luncheon
LOCATION:Lawton County Club 4601 W Gore Boulevard  Lawton OK 73505
ORGANIZER;CN=County Chairman:MAILTO:sharlahildner@hotmail.com
DTSTART;TZID=Etc/GMT+0:20260421T113000
DTEND;TZID=Etc/GMT+0:20260421T130000
X-ALT-DESC;FMTTYPE=TEXT/HTML:The CCRP is excited to announce that during th
 e 2026 election season\, we will be hosting a monthly GOP Luncheon on the 
 third Tuesday of each month at the Lawton Country Club\, located at 4801 W
 . Gore Blvd.\, Lawton. Time: 11:30 a.m. – 1:30 p.m. Location: Lawton Cou
 ntry Club Due to limited seating\, RSVP is&amp;hellip\;
CATEGORIES:Comanche County GOP
URL;VALUE=URI:https://comanchegop.org/mc-events/gop-monthly-luncheon-2/
METHOD:PUBLISH
END:VEVENT
END:VCALENDAR