BEGIN:VCALENDAR
VERSION:2.0
PRODID:spatie/icalendar-generator
DESCRIPTION:Events from Comanche County Republican Party
X-WR-CALDESC:Events from Comanche County Republican Party
REFRESH-INTERVAL;VALUE=DURATION:PT1440M
X-PUBLISHED-TTL:PT1440M
BEGIN:VTIMEZONE
TZID:Etc/GMT+0
BEGIN:STANDARD
DTSTART:20250725T180000Z
TZOFFSETFROM:+0000
TZOFFSETTO:+0000
END:STANDARD
END:VTIMEZONE
BEGIN:VTIMEZONE
TZID:UTC
BEGIN:STANDARD
DTSTART:20250727T153219Z
TZOFFSETFROM:+0000
TZOFFSETTO:+0000
END:STANDARD
END:VTIMEZONE
BEGIN:VEVENT
UID:98-69
DTSTAMP:20260423T153219Z
SUMMARY:GOP Monthly Evening Meeting
LOCATION:Lawton County Club 4601 W Gore Boulevard  Lawton OK 73505
ORGANIZER;CN=County Chairman:MAILTO:sharlahildner@hotmail.com
DTSTART;TZID=Etc/GMT+0:20260421T180000
DTEND;TZID=Etc/GMT+0:20260421T203000
X-ALT-DESC;FMTTYPE=TEXT/HTML:Candidates: Senator Dusty Deevers\, Senate Dis
 trict 32 Marty Quinn\, Insurance Commissioner Kevin West\, Labor Commissio
 ner George Gill\, County Commissioner District 1 Time: 6:00pm - 8:30pm Loc
 ation: Lawton Country Club
CATEGORIES:Comanche County GOP
URL;VALUE=URI:https://comanchegop.org/mc-events/gop-monthly-evening-meeting
 /
METHOD:PUBLISH
END:VEVENT
END:VCALENDAR