BEGIN:VCALENDAR
VERSION:2.0
PRODID:spatie/icalendar-generator
DESCRIPTION:Events from Comanche County Republican Party
X-WR-CALDESC:Events from Comanche County Republican Party
REFRESH-INTERVAL;VALUE=DURATION:PT1440M
X-PUBLISHED-TTL:PT1440M
BEGIN:VTIMEZONE
TZID:Etc/GMT+0
BEGIN:STANDARD
DTSTART:20250704T000100Z
TZOFFSETFROM:+0000
TZOFFSETTO:+0000
END:STANDARD
END:VTIMEZONE
BEGIN:VTIMEZONE
TZID:UTC
BEGIN:STANDARD
DTSTART:20250727T141127Z
TZOFFSETFROM:+0000
TZOFFSETTO:+0000
END:STANDARD
END:VTIMEZONE
BEGIN:VEVENT
UID:113-81
DTSTAMP:20260423T141127Z
SUMMARY:VOTER INFORMATION: Last day to change political parties
LOCATION:
ORGANIZER;CN=County Chairman:MAILTO:sharlahildner@hotmail.com
DTSTART;TZID=Etc/GMT+0:20260331T000100
DTEND;TZID=Etc/GMT+0:20260331T235900
X-ALT-DESC;FMTTYPE=TEXT/HTML:Change of political parties are not allowed in
  Oklahoma between April 1 - August 31
CATEGORIES:Election
URL;VALUE=URI:https://comanchegop.org/mc-events/voter-information-last-day-
 to-change-political-parties/
METHOD:PUBLISH
END:VEVENT
END:VCALENDAR