BEGIN:VCALENDAR
VERSION:2.0
PRODID:spatie/icalendar-generator
DESCRIPTION:Events from Comanche County Republican Party
X-WR-CALDESC:Events from Comanche County Republican Party
REFRESH-INTERVAL;VALUE=DURATION:PT1440M
X-PUBLISHED-TTL:PT1440M
BEGIN:VTIMEZONE
TZID:Etc/GMT+0
BEGIN:STANDARD
DTSTART:20250730T200000Z
TZOFFSETFROM:+0000
TZOFFSETTO:+0000
END:STANDARD
END:VTIMEZONE
BEGIN:VTIMEZONE
TZID:UTC
BEGIN:STANDARD
DTSTART:20250727T164920Z
TZOFFSETFROM:+0000
TZOFFSETTO:+0000
END:STANDARD
END:VTIMEZONE
BEGIN:VEVENT
UID:121-84
DTSTAMP:20260423T164920Z
SUMMARY:Comanche County GOP Podcast with Louis Jackson for House District 6
 4
LOCATION:
ORGANIZER;CN=County Chairman:MAILTO:sharlahildner@hotmail.com
DTSTART;TZID=Etc/GMT+0:20260426T200000
DTEND;TZID=Etc/GMT+0:20260426T210000
X-ALT-DESC;FMTTYPE=TEXT/HTML:Join us on Facebook live Facebook
CATEGORIES:Comanche County GOP
URL;VALUE=URI:https://comanchegop.org/mc-events/comanche-county-gop-podcast
 -with-louis-jackson-for-house-district-64-2/
METHOD:PUBLISH
END:VEVENT
END:VCALENDAR